BEGIN:VCALENDAR
VERSION:2.0
METHOD:PUBLISH
PRODID:-//Telerik Inc.//Sitefinity CMS 15.2//EN
BEGIN:VTIMEZONE
TZID:Eastern Standard Time
BEGIN:STANDARD
DTSTART:20251102T020000
RRULE:FREQ=YEARLY;BYDAY=1SU;BYHOUR=2;BYMINUTE=0;BYMONTH=11
TZNAME:Eastern Standard Time
TZOFFSETFROM:-0400
TZOFFSETTO:-0500
END:STANDARD
BEGIN:DAYLIGHT
DTSTART:20250301T020000
RRULE:FREQ=YEARLY;BYDAY=2SU;BYHOUR=2;BYMINUTE=0;BYMONTH=3
TZNAME:Eastern Daylight Time
TZOFFSETFROM:-0500
TZOFFSETTO:-0400
END:DAYLIGHT
END:VTIMEZONE
BEGIN:VEVENT
DESCRIPTION:4/15/26 Nature as Medicine: Discover the Healing Power of Natur
 e Hosted by the UC Alumni Association BEARCATS/Health SeriesJoin us for an
  engaging\, evidence-based session exploring the health benefits of nature
 \, featuring a guided virtual forest immersion designed to help you relax\
 , restore and reconnect wherever you are.Learn how spending time in nature
  supports both physical and mental well-being and leave with practical\, e
 asy-to-use strategies for incorporating moments of nature into your everyd
 ay life. Whether you live near a park\, have access to a small green space
 \, or want to bring elements of the natural world into your home or workpl
 ace\, this session offers tools you can use right away.Event Details:When:
  Wednesday\, April 15\, 2026\, from noon-1 p.m.Where: Virtual via ZoomRegi
 stration:&nbsp\;Register Now via the UC Alumni Associate registration site
 &nbsp\;- Registration is complimentary\; however\, advance registration is
  requested by April 10. Zoom link to be sent the day prior. All are welcom
 e.
DTEND:20260415T170000Z
DTSTAMP:20260422T054237Z
DTSTART:20260415T160000Z
LOCATION:
SEQUENCE:0
SUMMARY:Nature as Medicine: Discover the Healing Power of Nature (Virtual\,
  No-Cost)
UID:RFCALITEM639124333570951286
X-ALT-DESC;FMTTYPE=text/html:<p class="h4">4/15/26 Nature as Medicine: Disc
 over the Healing Power of Nature Hosted by the UC Alumni Association BEARC
 ATS/Health Series</p><p>Join us for an engaging\, evidence-based session e
 xploring the health benefits of nature\, featuring a guided virtual forest
  immersion designed to help you relax\, restore and reconnect wherever you
  are.</p><p>Learn how spending time in nature supports both physical and m
 ental well-being and leave with practical\, easy-to-use strategies for inc
 orporating moments of nature into your everyday life. Whether you live nea
 r a park\, have access to a small green space\, or want to bring elements 
 of the natural world into your home or workplace\, this session offers too
 ls you can use right away.</p><p>Event Details:</p><ul><li>When: Wednesday
 \, April 15\, 2026\, from noon-1 p.m.</li><li>Where: Virtual via Zoom</li>
 <li>Registration:&nbsp\;<a href="https://www.alumni.uc.edu/get-involved/co
 llege-networks/medicine/nature-as-medicine.html?_gl=1*1agz1h0*_ga*MTA5NjEx
 NTE0Ny4xNzM5MjI0NTI2*_ga_7H1FCKXZ4Y*czE3NjgzMTIwOTQkbzEzMCRnMSR0MTc2ODMxMj
 M5NSRqNDgkbDAkaDA.*_ga_LSJTQ7TZ38*czE3NjgzMTIwOTQkbzEzMCRnMSR0MTc2ODMxMjM5
 NSRqNDgkbDAkaDA.*_ga_CWY9357HWN*czE3NjgzMTIwOTQkbzEzMCRnMSR0MTc2ODMxMjM5NS
 RqNDgkbDAkaDA." target="_blank">Register Now via the UC Alumni Associate r
 egistration site</a>&nbsp\;- Registration is complimentary\; however\, adv
 ance registration is requested by April 10. Zoom link to be sent the day p
 rior. All are welcome.</li></ul>
END:VEVENT
END:VCALENDAR
