BEGIN:VCALENDAR
VERSION:2.0
METHOD:PUBLISH
PRODID:-//Telerik Inc.//Sitefinity CMS 15.2//EN
BEGIN:VTIMEZONE
TZID:Eastern Standard Time
BEGIN:STANDARD
DTSTART:20251102T020000
RRULE:FREQ=YEARLY;BYDAY=1SU;BYHOUR=2;BYMINUTE=0;BYMONTH=11
TZNAME:Eastern Standard Time
TZOFFSETFROM:-0400
TZOFFSETTO:-0500
END:STANDARD
BEGIN:DAYLIGHT
DTSTART:20250301T020000
RRULE:FREQ=YEARLY;BYDAY=2SU;BYHOUR=2;BYMINUTE=0;BYMONTH=3
TZNAME:Eastern Daylight Time
TZOFFSETFROM:-0500
TZOFFSETTO:-0400
END:DAYLIGHT
END:VTIMEZONE
BEGIN:VEVENT
DESCRIPTION:Designed to teach the student how to select a respirator based 
 on workplace conditions (exposure level\, type of contaminant\, etc.). Reg
 ister for this workshop&nbsp\;here.
DTEND:20260512T210000Z
DTSTAMP:20260424T021148Z
DTSTART:20260512T120000Z
LOCATION:
SEQUENCE:0
SUMMARY:Respirator Selection Workshop
UID:RFCALITEM639125935083684922
X-ALT-DESC;FMTTYPE=text/html:Designed to teach the student how to select a 
 respirator based on workplace conditions (exposure level\, type of contami
 nant\, etc.). Register for this workshop&nbsp\;<a href="https://drmckay.co
 m/rtc-resp_selection.shtml" target="_blank">here.</a>
END:VEVENT
END:VCALENDAR
