BEGIN:VCALENDAR
VERSION:2.0
METHOD:PUBLISH
PRODID:-//Telerik Inc.//Sitefinity CMS 15.2//EN
BEGIN:VTIMEZONE
TZID:Eastern Standard Time
BEGIN:STANDARD
DTSTART:20251102T020000
RRULE:FREQ=YEARLY;BYDAY=1SU;BYHOUR=2;BYMINUTE=0;BYMONTH=11
TZNAME:Eastern Standard Time
TZOFFSETFROM:-0400
TZOFFSETTO:-0500
END:STANDARD
BEGIN:DAYLIGHT
DTSTART:20250301T020000
RRULE:FREQ=YEARLY;BYDAY=2SU;BYHOUR=2;BYMINUTE=0;BYMONTH=3
TZNAME:Eastern Daylight Time
TZOFFSETFROM:-0500
TZOFFSETTO:-0400
END:DAYLIGHT
END:VTIMEZONE
BEGIN:VEVENT
DESCRIPTION:Please join us for the ASD Journal Club on the fourth Thursday 
 of each month.Meetings are held at 3131 Harvey Ave (MOB East Professional)
 \, 2022 Conference Room\, 2nd floor (check in at upstairs reception)\, or 
 attend virtually via Zoom.
DTEND:20260528T170000Z
DTSTAMP:20260423T170505Z
DTSTART:20260528T160000Z
LOCATION:
SEQUENCE:0
SUMMARY:Addiction Sciences (ASD) Journal Club
UID:RFCALITEM639125607056637127
X-ALT-DESC;FMTTYPE=text/html:<p>Please join us for the ASD Journal Club on 
 the fourth Thursday of each month.</p><p>Meetings are held at 3131 Harvey 
 Ave (MOB East Professional)\, 2022 Conference Room\, 2nd floor (check in a
 t upstairs reception)\, or attend virtually via <a href="https://ucincinna
 ti.zoom.us/j/84748298047?pwd=rvBA1ss0zoEklKlXBah3Dn7EyafGkZ.1">Zoom</a>.<b
 r></p>
END:VEVENT
END:VCALENDAR
